BEGIN:VCALENDAR
VERSION:2.0
PRODID:-//CASMET - Medical Technologists - ECPv6.8.1//NONSGML v1.0//EN
CALSCALE:GREGORIAN
METHOD:PUBLISH
X-ORIGINAL-URL:https://casmet.net
X-WR-CALDESC:Events for CASMET - Medical Technologists
REFRESH-INTERVAL;VALUE=DURATION:PT1H
X-Robots-Tag:noindex
X-PUBLISHED-TTL:PT1H
BEGIN:VTIMEZONE
TZID:UTC
BEGIN:STANDARD
TZOFFSETFROM:+0000
TZOFFSETTO:+0000
TZNAME:UTC
DTSTART:20250101T000000
END:STANDARD
END:VTIMEZONE
BEGIN:VEVENT
DTSTART;VALUE=DATE:20251022
DTEND;VALUE=DATE:20251023
DTSTAMP:20260421T174600
CREATED:20251023T012618Z
LAST-MODIFIED:20251023T012618Z
UID:1972-1761091200-1761177599@casmet.net
SUMMARY:Powerful Flow Cytometry Solutions for Clinical Laboratories - Beckman Coulter Life Sciences
DESCRIPTION:Date & Time: October 22 | 11:00 AM (AST) | Login session at 10:45 AM (AST)\nSpeaker: Rodolfo Patussi Correia\, Marketing Manager\, Latin American Region\, Beckman Coulter Life Sciences\nTarget group: clinical chemists\, lab managers\, medical technologists\, and other healthcare professionals. \n\nDiscover how advanced flow cytometry solutions can enhance accuracy\, efficiency\, and workflow in your lab.\nRegister Now – Secure Your Spot: https://tinyurl.com/yvdwz8ze
URL:https://casmet.net/event/powerful-flow-cytometry-solutions-for-clinical-laboratories-beckman-coulter-life-sciences/
END:VEVENT
END:VCALENDAR